BEGIN:VCALENDAR
PRODID:-//github.com/rianjs/ical.net//NONSGML ical.net 4.0//EN
VERSION:2.0
BEGIN:VEVENT
DESCRIPTION:Treptower Park\, Halbinsel Stralau\, Rummelsburger Bucht\, Wuh
 lheide\, Wuhletal\, Biesdorf\, Görlitzer Park\nhttps://touren-termine.adf
 c.de/radveranstaltung/112276-berliner-fahrradwoche-zum-wuhletal
DTEND:20240725T180000Z
DTSTAMP:20260425T132629Z
DTSTART:20240725T143000Z
LOCATION:Potsdamer Platz\, historische Verkehrsampel\, 10785 Berlin
SEQUENCE:0
SUMMARY:Berliner Fahrradwoche: zum Wuhletal
UID:5d8f37bd-69e6-475f-bfe8-2eb42a7aafce
URL:https://touren-termine.adfc.de/radveranstaltung/112276-berliner-fahrra
 dwoche-zum-wuhletal
END:VEVENT
END:VCALENDAR
