BEGIN:VCALENDAR
PRODID:-//github.com/rianjs/ical.net//NONSGML ical.net 4.0//EN
VERSION:2.0
BEGIN:VEVENT
DESCRIPTION:Mahnwache für die am Ellerholzweg getötete Radfahrerin\nhttps:
 //touren-termine.adfc.de/radveranstaltung/162082-mahnwache-fur-getoteten-
 radfahrer
DTEND:20250406T130000Z
DTSTAMP:20260420T231229Z
DTSTART:20250406T120000Z
LOCATION:Ellerholzweg 14\, 21107 Hamburg
SEQUENCE:0
SUMMARY:Mahnwache für getöteten Radfahrer
UID:7e2e4bfa-abf9-495a-b1c6-4649177b2fd0
URL:https://touren-termine.adfc.de/radveranstaltung/162082-mahnwache-fur-g
 etoteten-radfahrer
END:VEVENT
END:VCALENDAR
