BEGIN:VCALENDAR
PRODID:-//github.com/rianjs/ical.net//NONSGML ical.net 4.0//EN
VERSION:2.0
BEGIN:VEVENT
DESCRIPTION:Mitglieder hören Berichte aus Arbeitsgruppen\, besprechen weit
 ere Vorgehen und Aktivitäten\, tauschen Ideen aus – informativ\, zielorie
 ntiert und verbindend!\nhttps://touren-termine.adfc.de/radveranstaltung/1
 91767-adfc-aktiventreff
DTEND:20261015T183000Z
DTSTAMP:20260420T150252Z
DTSTART:20261015T163000Z
LOCATION:Alsenstraße 27\, 44789 Bochum
SEQUENCE:0
SUMMARY:ADFC Aktiventreff
UID:39246c29-6268-4da8-8daf-e755496dd46e
URL:https://touren-termine.adfc.de/radveranstaltung/191767-adfc-aktiventre
 ff
END:VEVENT
END:VCALENDAR
