BEGIN:VCALENDAR
PRODID:-//github.com/rianjs/ical.net//NONSGML ical.net 4.0//EN
VERSION:2.0
BEGIN:VEVENT
DESCRIPTION:Im Rahmen des Raderlebnistages führt die 52 km lange Rundtour 
 zum Schloss Reydt in Mönchengladbach. Auf dem Hin bzw. Rückweg werden wir
  entlang des Niersradwanderweges fahren.\nhttps://touren-termine.adfc.de/
 radveranstaltung/168738-an-der-niers-entlang-zum-schloss-reydt
DTEND:20250706T140000Z
DTSTAMP:20260421T102341Z
DTSTART:20250706T090000Z
LOCATION:Tönisvorster Straße / Ecke Oststr.\, 47929 Grefrath
SEQUENCE:0
SUMMARY:An der Niers entlang zum Schloss Reydt
UID:99c748f7-cbae-4165-9664-64231268db7b
URL:https://touren-termine.adfc.de/radveranstaltung/168738-an-der-niers-en
 tlang-zum-schloss-reydt
END:VEVENT
END:VCALENDAR
