BEGIN:VCALENDAR
PRODID:-//github.com/rianjs/ical.net//NONSGML ical.net 4.0//EN
VERSION:2.0
BEGIN:VEVENT
DESCRIPTION:Wir übernehmen den bewachten Fahrradstellplatz zum Firmenlauf 
 von 17 bis 21: 30 Uhr\nhttps://touren-termine.adfc.de/radveranstaltung/13
 4178-firmenlauf-bad-berleburg-2023-fahrradstellplatz
DTEND:20240529T193000Z
DTSTAMP:20260423T030915Z
DTSTART:20240529T150000Z
LOCATION:Poststraße\, 57319 Bad Berleburg
SEQUENCE:0
SUMMARY:Firmenlauf Bad Berleburg 2023 Fahrradstellplatz
UID:3b090d21-80dd-4ca4-8d03-adc5c86ee00c
URL:https://touren-termine.adfc.de/radveranstaltung/134178-firmenlauf-bad-
 berleburg-2023-fahrradstellplatz
END:VEVENT
END:VCALENDAR
