BEGIN:VCALENDAR
PRODID:-//github.com/rianjs/ical.net//NONSGML ical.net 4.0//EN
VERSION:2.0
BEGIN:VEVENT
DESCRIPTION:Radlertreff in entspannter Atmosphäre\nhttps://touren-termine.
 adfc.de/radveranstaltung/106749-afterwork
DTEND:20230927T200000Z
DTSTAMP:20260424T144843Z
DTSTART:20230927T163000Z
LOCATION:Silberburgstraße 84\, 70176 Stuttgart
SEQUENCE:0
SUMMARY:AfterWork
UID:13602034-bb90-4206-9f79-1b8d7248b892
URL:https://touren-termine.adfc.de/radveranstaltung/106749-afterwork
END:VEVENT
END:VCALENDAR
