BEGIN:VCALENDAR
PRODID:-//github.com/rianjs/ical.net//NONSGML ical.net 4.0//EN
VERSION:2.0
BEGIN:VEVENT
DESCRIPTION:Viele Kirschbäume und ehemalige Rieselfelder auf dem Weg nach 
 Gröben. Mit weiter Sicht auf die Glauer Berge nach Tremsdorf. Auf neuen R
 adwegen nach Güterfelde und über Kleinmachnow zum Ziel Wannsee.\nhttps://
 touren-termine.adfc.de/radveranstaltung/40362-in-rentewas-nun-nutheniepli
 tz
DTEND:20250801T153000Z
DTSTAMP:20260424T203149Z
DTSTART:20250801T080000Z
LOCATION:S-Bhf. Lichterfelde Süd\, Ausgang Fürstenstraße\, 12207 Berlin
SEQUENCE:0
SUMMARY:In Rente-was nun? Nuthe-Nieplitz
UID:19055862-f9fa-4a1a-9000-7036e3ea17a9
URL:https://touren-termine.adfc.de/radveranstaltung/40362-in-rentewas-nun-
 nuthenieplitz
END:VEVENT
END:VCALENDAR
