BEGIN:VCALENDAR
PRODID:-//github.com/rianjs/ical.net//NONSGML ical.net 4.0//EN
VERSION:2.0
BEGIN:VEVENT
DESCRIPTION:Unsere Geschäftsstelle ist für alle Anliegen und offenen Frage
 n geöffnet.\nhttps://touren-termine.adfc.de/radveranstaltung/130278-offnu
 ngszeit-unserer-geschaftsstelle
DTEND:20240704T160000Z
DTSTAMP:20260421T121154Z
DTSTART:20240704T140000Z
LOCATION:Essen (Innenstadt)\, ADFC Essen Geschäftsstelle\, Rottstraße 5\, 
 45127 Essen
SEQUENCE:0
SUMMARY:Öffnungszeit unserer Geschäftsstelle
UID:00bfd83f-2f8c-4b78-93c8-633499cf584a
URL:https://touren-termine.adfc.de/radveranstaltung/130278-offnungszeit-un
 serer-geschaftsstelle
END:VEVENT
END:VCALENDAR
