BEGIN:VCALENDAR
PRODID:-//github.com/rianjs/ical.net//NONSGML ical.net 4.0//EN
VERSION:2.0
BEGIN:VEVENT
DESCRIPTION:Bei der Codierung wird das Fahrrad mit einem individuellen Cod
 e versehen\, der in verschlüsselter Form die Adresse und die Initialen de
 s Eigentümers/ der Eigentümerin enthält. Anmeldung bis 31.05.\nhttps://to
 uren-termine.adfc.de/radveranstaltung/195692-fahrradcodieraktion-autoscha
 u-in-buxtehude
DTEND:20260531T140000Z
DTSTAMP:20260421T054310Z
DTSTART:20260531T090000Z
LOCATION:Ecke Rathaus\, 21614 Buxtehude
SEQUENCE:0
SUMMARY:Fahrrad-Codieraktion @ Autoschau in Buxtehude
UID:05b9717c-2cc8-4bfa-a4b0-46c9a039e7b7
URL:https://touren-termine.adfc.de/radveranstaltung/195692-fahrradcodierak
 tion-autoschau-in-buxtehude
END:VEVENT
END:VCALENDAR
