BEGIN:VCALENDAR
PRODID:-//github.com/rianjs/ical.net//NONSGML ical.net 4.0//EN
VERSION:2.0
BEGIN:VEVENT
DESCRIPTION:Über Stock und Stein am Abend? Das bieten wir bei unseren MTB-
 Feierabendtouren jeden 2. und 4. Mittwoch im Monat rund um Bietigheim-Bis
 singen.\nhttps://touren-termine.adfc.de/radveranstaltung/147518-bietighei
 mbissinger-mountainbikefeierabendtouren
DTEND:20250409T190000Z
DTSTAMP:20260425T200408Z
DTSTART:20250409T163000Z
LOCATION:Enzpavillon\, 74321 Bietigheim-Bissingen
SEQUENCE:0
SUMMARY:Bietigheim-Bissinger Mountainbike-Feierabendtouren
UID:44e20df2-abf2-4d48-b13e-07016396f928
URL:https://touren-termine.adfc.de/radveranstaltung/147518-bietigheimbissi
 nger-mountainbikefeierabendtouren
END:VEVENT
END:VCALENDAR
