BEGIN:VCALENDAR
PRODID:-//github.com/rianjs/ical.net//NONSGML ical.net 4.0//EN
VERSION:2.0
BEGIN:VEVENT
DESCRIPTION:Vom Meergottbrunnen am Wöhrdersee radeln wir entlang der Pegni
 tz nach Hohenstadt. Hier stellen wir unser Räder ab und spazieren steil n
 ach oben zum hoffentlich wunderschön blühenden Christrosenwald.\nhttps://
 touren-termine.adfc.de/radveranstaltung/191411-christrosenwald-bei-hohens
 tadt
DTEND:20260320T170000Z
DTSTAMP:20260423T201119Z
DTSTART:20260320T080000Z
LOCATION:Wöhrder Talübergang\, 90489 Nürnberg
SEQUENCE:0
SUMMARY:Christrosenwald bei Hohenstadt
UID:39ef3c24-6858-451e-8cf3-348ef18210b5
URL:https://touren-termine.adfc.de/radveranstaltung/191411-christrosenwald
 -bei-hohenstadt
END:VEVENT
END:VCALENDAR
