BEGIN:VCALENDAR
PRODID:-//github.com/rianjs/ical.net//NONSGML ical.net 4.0//EN
VERSION:2.0
BEGIN:VEVENT
DESCRIPTION:Wir treffen uns jeden 1. Donnerstag eines Monats (außer August
 ) um 19:00 Uhr im Gasthaus Belfort in Kaufbeuren\, Mindelheimer Str. 35. 
 Diesmal mit Vortrag zu den Rechten und Pflichten des Radfahrers.\nhttps:/
 /touren-termine.adfc.de/radveranstaltung/114811-adfcstammtisch-mit-vortra
 g
DTEND:20240502T200000Z
DTSTAMP:20260419T155628Z
DTSTART:20240502T170000Z
LOCATION:Gasthaus Belfort\, Mindelheimer Straße 35\, 87600 Kaufbeuren
SEQUENCE:0
SUMMARY:ADFC-Stammtisch mit Vortrag
UID:cef89dc2-019b-4a1d-adec-9cf02802f65f
URL:https://touren-termine.adfc.de/radveranstaltung/114811-adfcstammtisch-
 mit-vortrag
END:VEVENT
END:VCALENDAR
