BEGIN:VCALENDAR
PRODID:-//github.com/rianjs/ical.net//NONSGML ical.net 4.0//EN
VERSION:2.0
BEGIN:VEVENT
DESCRIPTION:"Am 21.09 verwandelt die Kidical Mass die Straßen in eine bunt
 e Fahrraddemo für sichere Kinder-Radwege. Familien setzen ein starkes Zei
 chen für kindgerechten Verkehr. Start: 13:00 Uhr Torhaus 7 (RS1)\nhttps:/
 /touren-termine.adfc.de/radveranstaltung/138425-kidical-mass-bochum-bunte
 -fahrraddemo-fur-alle
DTEND:20240921T130000Z
DTSTAMP:20260420T150145Z
DTSTART:20240921T110000Z
LOCATION:RS1\, 44793 Bochum
SEQUENCE:0
SUMMARY:Kidical Mass Bochum - bunte Fahrraddemo für Alle
UID:3666179c-4746-410c-901c-25e8107f3b6a
URL:https://touren-termine.adfc.de/radveranstaltung/138425-kidical-mass-bo
 chum-bunte-fahrraddemo-fur-alle
END:VEVENT
END:VCALENDAR
