BEGIN:VCALENDAR
PRODID:-//github.com/rianjs/ical.net//NONSGML ical.net 4.0//EN
VERSION:2.0
BEGIN:VEVENT
DESCRIPTION:Liebe Mitglieder des ADFC Hamburg\,\nder Vorstand lädt euch se
 hr herzlich ein zur diesjährigen\nLandesversammlung.\nhttps://touren-term
 ine.adfc.de/radveranstaltung/173810-landesversammlung
DTEND:20251109T173000Z
DTSTAMP:20260421T024347Z
DTSTART:20251109T140000Z
LOCATION:Koppel 34-36\, 20099 Hamburg
SEQUENCE:0
SUMMARY:Landesversammlung
UID:94ce0418-ea1d-4a87-a7bc-252d45566d6e
URL:https://touren-termine.adfc.de/radveranstaltung/173810-landesversammlu
 ng
END:VEVENT
END:VCALENDAR
