BEGIN:VCALENDAR
PRODID:-//github.com/rianjs/ical.net//NONSGML ical.net 4.0//EN
VERSION:2.0
BEGIN:VEVENT
DESCRIPTION:Sportliche Gravel-Tour über Cadolzburg durch den Wald Richtung
  Kirchfarrnbach und über Ammerndorf und Hainberg zurück.\nhttps://touren-
 termine.adfc.de/radveranstaltung/190778-graveltour-dillenberg-und-hainber
 g
DTEND:20260816T150000Z
DTSTAMP:20260423T201809Z
DTSTART:20260816T120000Z
LOCATION:Fürther Südstadtpark\, Fronmüllerstraße\, 90763 Fürth
SEQUENCE:0
SUMMARY:Gravel-Tour: Dillenberg und Hainberg
UID:1710afd1-1b9b-4236-9a65-327027324fe5
URL:https://touren-termine.adfc.de/radveranstaltung/190778-graveltour-dill
 enberg-und-hainberg
END:VEVENT
END:VCALENDAR
