BEGIN:VCALENDAR
PRODID:-//github.com/rianjs/ical.net//NONSGML ical.net 4.0//EN
VERSION:2.0
BEGIN:VEVENT
DESCRIPTION:Wir fahren über die Balkantrasse bis Hilgen\, runter an die Se
 ngbachtalsperre\, hoch bis Oberburg. Von dort zur Müngstener Brücke. \nZu
 rück gehts entlang der Wupper durch die Wipperaue und Leichlingen.\nhttps
 ://touren-termine.adfc.de/radveranstaltung/169727-ohne-sturz-zum-ritterst
 urz
DTEND:20251019T140000Z
DTSTAMP:20260419T155933Z
DTSTART:20251019T080000Z
LOCATION:Freiherr-vom-Stein-Straße 5a\, 51379 Leverkusen
SEQUENCE:0
SUMMARY:Ohne Sturz zum Rittersturz
UID:cbbda02a-62ac-47d8-bf24-5da0a6f51479
URL:https://touren-termine.adfc.de/radveranstaltung/169727-ohne-sturz-zum-
 rittersturz
END:VEVENT
END:VCALENDAR
