BEGIN:VCALENDAR
PRODID:-//github.com/rianjs/ical.net//NONSGML ical.net 4.0//EN
VERSION:2.0
BEGIN:VEVENT
DESCRIPTION:Unsere Geschäftsstelle ist für alle Anliegen und offenen Frage
 n geöffnet.\nhttps://touren-termine.adfc.de/radveranstaltung/183788-offnu
 ngszeit-unserer-geschaftsstelle
DTEND:20260205T170000Z
DTSTAMP:20260421T120004Z
DTSTART:20260205T150000Z
LOCATION:Essen (Innenstadt)\, ADFC Essen Geschäftsstelle\, Rottstraße 5\, 
 45127 Essen
SEQUENCE:0
SUMMARY:Öffnungszeit unserer Geschäftsstelle
UID:453e7448-af1a-4be5-baa2-5ce709e053d2
URL:https://touren-termine.adfc.de/radveranstaltung/183788-offnungszeit-un
 serer-geschaftsstelle
END:VEVENT
END:VCALENDAR
