BEGIN:VCALENDAR
PRODID:-//github.com/rianjs/ical.net//NONSGML ical.net 4.0//EN
VERSION:2.0
BEGIN:VEVENT
DESCRIPTION:Wir sind mit einem ADFC-Stand auf dem Uelzener Fahrradtag vert
 reten. Gleichzeitig ist es der Beginn des STADTRADELNS in Uelzen\, Bad Be
 vensen und des Landkreises Uelzen. Fahrt KILOMETER für den ADFC!!!\nhttps
 ://touren-termine.adfc.de/radveranstaltung/135256-adfcstand-uelzener-fahr
 radtag-start-stadtradeln
DTEND:20240824T120000Z
DTSTAMP:20260424T161611Z
DTSTART:20240824T070000Z
LOCATION:Herzogenplatz\, 29525 Uelzen
SEQUENCE:0
SUMMARY:ADFC-Stand Uelzener Fahrradtag\, Start STADTRADELN
UID:03d2037c-5614-4559-a4c1-788cbee6a177
URL:https://touren-termine.adfc.de/radveranstaltung/135256-adfcstand-uelze
 ner-fahrradtag-start-stadtradeln
END:VEVENT
END:VCALENDAR
