BEGIN:VCALENDAR
PRODID:-//github.com/rianjs/ical.net//NONSGML ical.net 4.0//EN
VERSION:2.0
BEGIN:VEVENT
DESCRIPTION:Eine anspruchsvolle Tour für Pedelec-Fahrer und Radfahrer mit 
 guter Kondition.  Bei schlechtem Wetter oder Regen findet die Tour nicht 
 statt.\nhttps://touren-termine.adfc.de/radveranstaltung/169219-nachmittag
 stour-ab-refrath
DTEND:20250821T160000Z
DTSTAMP:20260423T151927Z
DTSTART:20250821T133000Z
LOCATION:Peter-Bürling-Platz\, 51427 Bergisch Gladbach
SEQUENCE:0
SUMMARY:Nachmittagstour ab Refrath
UID:040d0cb8-f4d3-49c1-8e39-0eec24accd51
URL:https://touren-termine.adfc.de/radveranstaltung/169219-nachmittagstour
 -ab-refrath
END:VEVENT
END:VCALENDAR
