BEGIN:VCALENDAR
PRODID:-//github.com/rianjs/ical.net//NONSGML ical.net 4.0//EN
VERSION:2.0
BEGIN:VEVENT
DESCRIPTION:#FahrradFrauen des ADFC Berlin treffen sich am 17.06.24 ONLINE
  um 19 Uhr - schau einfach vorbei - gerne spontan\, über eine Anmeldung f
 reuen wir uns.\nhttps://touren-termine.adfc.de/radveranstaltung/127935-tr
 effen-des-frauennetzwerkes-des-adfc-berlin
DTEND:20250120T200000Z
DTSTAMP:20260424T045912Z
DTSTART:20250120T180000Z
LOCATION:Möckernstraße 47 - VELOKiez des ADFC Berlin\, 10963 Berlin
SEQUENCE:0
SUMMARY:Treffen des Frauen*Netzwerkes des ADFC Berlin
UID:38656119-a2a5-426f-87a8-ab84a432a3c5
URL:https://touren-termine.adfc.de/radveranstaltung/127935-treffen-des-fra
 uennetzwerkes-des-adfc-berlin
END:VEVENT
END:VCALENDAR
