BEGIN:VCALENDAR
PRODID:-//github.com/rianjs/ical.net//NONSGML ical.net 4.0//EN
VERSION:2.0
BEGIN:VEVENT
DESCRIPTION:Mit einem Beamervortrag startet der ADFC Burgwedel in die neue
  Saison 2025.\nAb April geht es dann wieder regelmäßig auf Fahrradtouren.
 \nhttps://touren-termine.adfc.de/radveranstaltung/158440-auftaktveranstal
 tung-fahrradsaison-2025
DTEND:20250327T180000Z
DTSTAMP:20260423T105519Z
DTSTART:20250327T180000Z
LOCATION:Gaststätte am Markt\, Am Markt 3\, 30938 Burgwedel
SEQUENCE:0
SUMMARY:Auftaktveranstaltung Fahrradsaison 2025
UID:40dc8dfd-a0ee-42bb-8572-654a7a632e5d
URL:https://touren-termine.adfc.de/radveranstaltung/158440-auftaktveransta
 ltung-fahrradsaison-2025
END:VEVENT
END:VCALENDAR
