BEGIN:VCALENDAR
PRODID:-//github.com/rianjs/ical.net//NONSGML ical.net 4.0//EN
VERSION:2.0
BEGIN:VEVENT
DESCRIPTION:ADFC-Fahrradcodierung in der Geschäftsstelle\nhttps://touren-t
 ermine.adfc.de/radveranstaltung/175760-fahrradcodierung-adfc-leverkusen-2
 026
DTEND:20260119T130000Z
DTSTAMP:20260419T155719Z
DTSTART:20260119T100000Z
LOCATION:ADFC-Geschäftsstelle\, Freiherr-vom-Stein-Straße 5a\, 51379 Lever
 kusen
SEQUENCE:0
SUMMARY:Fahrradcodierung ADFC Leverkusen 2026
UID:29963f37-9ff5-4934-afa5-fa9894ad8cfd
URL:https://touren-termine.adfc.de/radveranstaltung/175760-fahrradcodierun
 g-adfc-leverkusen-2026
END:VEVENT
END:VCALENDAR
