BEGIN:VCALENDAR
PRODID:-//github.com/rianjs/ical.net//NONSGML ical.net 4.0//EN
VERSION:2.0
BEGIN:VEVENT
DESCRIPTION:Stadtradeln 2025 (SR25) 20 x 20 km\nTour 17 von 20\nhttps://to
 uren-termine.adfc.de/radveranstaltung/165818-sr25t1721km-16001800-uhr
DTEND:20250604T160000Z
DTSTAMP:20260423T105631Z
DTSTART:20250604T140000Z
LOCATION:Fuhrberger Straße 4\, 30938 Burgwedel
SEQUENCE:0
SUMMARY:SR25-T17_21_km 16:00-18:00 Uhr
UID:f7ff0016-cc41-4b49-b212-59050deb3878
URL:https://touren-termine.adfc.de/radveranstaltung/165818-sr25t1721km-160
 01800-uhr
END:VEVENT
END:VCALENDAR
