BEGIN:VCALENDAR
PRODID:-//github.com/rianjs/ical.net//NONSGML ical.net 4.0//EN
VERSION:2.0
BEGIN:VEVENT
DESCRIPTION:Fortbildung für ADFC Aktive\nhttps://touren-termine.adfc.de/ra
 dveranstaltung/190588-das-adfc-veranstaltungsportal
DTEND:20260324T200000Z
DTSTAMP:20260423T015434Z
DTSTART:20260324T180000Z
LOCATION:Fahrrad Info Zentrum - FIZ (Siemensstraße 46)\, 40227 Düsseldorf
SEQUENCE:0
SUMMARY:Das ADFC Veranstaltungsportal
UID:2ea90798-933a-4fd9-9c69-5c95f733b61d
URL:https://touren-termine.adfc.de/radveranstaltung/190588-das-adfc-verans
 taltungsportal
END:VEVENT
END:VCALENDAR
