BEGIN:VCALENDAR
PRODID:-//github.com/rianjs/ical.net//NONSGML ical.net 4.0//EN
VERSION:2.0
BEGIN:VEVENT
DESCRIPTION:Wald- und Feldwege führen uns durch und um die Dörfer südlich 
 des Ferndorftales. Abfahrten oft auf  kleinen Teerstraßen. Viel Wald\, ei
 nige Fernblicke. Idyllische Landschaft. Anmeldung erforderlich.\nhttps://
 touren-termine.adfc.de/radveranstaltung/102764-pedelec-feierabendtour-her
 zhauser-dorfer
DTEND:20230615T183000Z
DTSTAMP:20260422T234436Z
DTSTART:20230615T160000Z
LOCATION:Marburger Straße 8\, Roter Platz\, 57223 Kreuztal
SEQUENCE:0
SUMMARY:Pedelec Feierabendtour Herzhäuser Dörfer
UID:f3887650-03eb-461b-b7df-fd19e208fefc
URL:https://touren-termine.adfc.de/radveranstaltung/102764-pedelec-feierab
 endtour-herzhauser-dorfer
END:VEVENT
END:VCALENDAR
