BEGIN:VCALENDAR
PRODID:-//github.com/rianjs/ical.net//NONSGML ical.net 4.0//EN
VERSION:2.0
BEGIN:VEVENT
DESCRIPTION:Als Einstieg in die Radtourensaison: eine leichte Tour von Sch
 wandorf über Schwarzenfeld und Charlottenhofer Weihergebiet zurück zum Au
 sgangspunkt\nhttps://touren-termine.adfc.de/radveranstaltung/180669-radto
 ur-rund-um-schwandorf-zum-eingewohnen
DTEND:20260503T140000Z
DTSTAMP:20260424T115303Z
DTSTART:20260503T080000Z
LOCATION:Bahnhofsplatz\, 92421 Schwandorf
SEQUENCE:0
SUMMARY:Radtour rund um Schwandorf: zum Eingewöhnen
UID:b912adb7-d5bc-4972-8044-2734173a4969
URL:https://touren-termine.adfc.de/radveranstaltung/180669-radtour-rund-um
 -schwandorf-zum-eingewohnen
END:VEVENT
END:VCALENDAR
