BEGIN:VCALENDAR
PRODID:-//github.com/rianjs/ical.net//NONSGML ical.net 4.0//EN
VERSION:2.0
BEGIN:VEVENT
DESCRIPTION:Codierung von Rädern schreckt Diebe ab und bringt wiedergefund
 ene Räder zurück. Bitte Personalausweis\, Fahrrad und (möglichst) Eigentu
 msnachweis mitbringen (ggf. auch ADFC Ausweis).\nhttps://touren-termine.a
 dfc.de/radveranstaltung/198546-fahrraddiebstahlschutz-durch-codierung
DTEND:20260509T110000Z
DTSTAMP:20260419T231144Z
DTSTART:20260509T080000Z
LOCATION:Top on Mountain\,  Rosenheimer Straße 52\, 83098 Landkreis Rosenh
 eim
SEQUENCE:0
SUMMARY:Fahrrad-Diebstahlschutz durch Codierung
UID:d6d19f5f-9427-4974-bc50-c95d88c6895b
URL:https://touren-termine.adfc.de/radveranstaltung/198546-fahrraddiebstah
 lschutz-durch-codierung
END:VEVENT
END:VCALENDAR
