BEGIN:VCALENDAR
PRODID:-//github.com/rianjs/ical.net//NONSGML ical.net 4.0//EN
VERSION:2.0
BEGIN:VEVENT
DESCRIPTION:Sichere Radwege machen Schulwege sicherer! Am Sonntag\, den 23
 .09.2023 startet um 11 Uhr ab Nollendorfplatz / Jelbi Station die bunte K
 inderFahrraddemo Kidical Mass. Kommt einfach dazu!\nhttps://touren-termin
 e.adfc.de/radveranstaltung/106818-kidical-mass-230923-um-11-uhr-nollendor
 fplatz
DTEND:20230923T113000Z
DTSTAMP:20260424T020601Z
DTSTART:20230923T090000Z
LOCATION:Nollendorfplatz\, 10777 Berlin
SEQUENCE:0
SUMMARY:Kidical Mass 23.09.23 um 11 Uhr Nollendorfplatz
UID:878fbd6a-612d-4c19-bd79-e6f66964583d
URL:https://touren-termine.adfc.de/radveranstaltung/106818-kidical-mass-23
 0923-um-11-uhr-nollendorfplatz
END:VEVENT
END:VCALENDAR
