BEGIN:VCALENDAR
PRODID:-//github.com/rianjs/ical.net//NONSGML ical.net 4.0//EN
VERSION:2.0
BEGIN:VEVENT
DESCRIPTION:Spontantour mit wechselnden Tourenleiter. \nBitte anmelden\nht
 tps://touren-termine.adfc.de/radveranstaltung/139376-nachmittagstour-in-h
 erborn
DTEND:20250422T150000Z
DTSTAMP:20260424T170756Z
DTSTART:20250422T120000Z
LOCATION:Marktplatz\, 35745 Herborn
SEQUENCE:0
SUMMARY:Nachmittagstour in Herborn
UID:7ff59ddb-b42f-4388-bafb-761c334c5346
URL:https://touren-termine.adfc.de/radveranstaltung/139376-nachmittagstour
 -in-herborn
END:VEVENT
END:VCALENDAR
