BEGIN:VCALENDAR
PRODID:-//github.com/rianjs/ical.net//NONSGML ical.net 4.0//EN
VERSION:2.0
BEGIN:VEVENT
DESCRIPTION:"Kreativ planen pro Rad" für Langenhagen. - Rad-Planer:innen =
  ❤️-lich willkommen. - Anmeldung hilfreich\, aber nicht unbedingt erforde
 rlich: Der ADFC ist sowieso schon da ... \;-)\nhttps://touren-termine.adf
 c.de/radveranstaltung/169940-komm-dazu-der-4-radkreativtreff
DTEND:20251001T190000Z
DTSTAMP:20260424T173053Z
DTSTART:20251001T163000Z
LOCATION:Zentraler Stützpunkt des ADFC Langenhagen: Grafenberger Straße 79
 \, 30853 Langenhagen
SEQUENCE:0
SUMMARY:Komm dazu: Der 4. "Rad-Kreativ-Treff"ⓇⓈ
UID:aba15731-3011-4d79-b1d1-990a4df59e67
URL:https://touren-termine.adfc.de/radveranstaltung/169940-komm-dazu-der-4
 -radkreativtreff
END:VEVENT
END:VCALENDAR
