BEGIN:VCALENDAR
PRODID:-//github.com/rianjs/ical.net//NONSGML ical.net 4.0//EN
VERSION:2.0
BEGIN:VEVENT
DESCRIPTION:Tour über das Heutal nach Breitenbrunn\nhttps://touren-termine
 .adfc.de/radveranstaltung/191158-tour-uber-das-heutal-nach-breitenbrunn
DTEND:20260607T160000Z
DTSTAMP:20260425T021446Z
DTSTART:20260607T070000Z
LOCATION:Schauturm im LGS-Gelände\, 92318 Neumarkt in der Oberpfalz
SEQUENCE:0
SUMMARY:Tour über das Heutal nach Breitenbrunn
UID:a0852c70-3267-4eee-8b0f-0173057348c9
URL:https://touren-termine.adfc.de/radveranstaltung/191158-tour-uber-das-h
 eutal-nach-breitenbrunn
END:VEVENT
END:VCALENDAR
