BEGIN:VCALENDAR
PRODID:-//github.com/rianjs/ical.net//NONSGML ical.net 4.0//EN
VERSION:2.0
BEGIN:VEVENT
DESCRIPTION:Kidical Mass - Sichere Straßen für Kinder! Kommt und fahrt mit
 \, habt Spaß und erlebt\, wie toll Radfahren ist\, wenn die Straßen frei 
 sind.   >>> Straßen sind für alle da ! <<<\nhttps://touren-termine.adfc.d
 e/radveranstaltung/196823-kidicalmass-moabit-vom-kinderspielplatz-piepmat
 z
DTEND:20260510T130000Z
DTSTAMP:20260419T154959Z
DTSTART:20260510T120000Z
LOCATION:Kinderspielplatz Piepmatz im Kleinen Tiergarten\, Alt Moabit\, ge
 genüber Hausnr. 104\, 10559 Berlin
SEQUENCE:0
SUMMARY:KidicalMass Moabit vom Kinderspielplatz Piepmatz
UID:f811f307-3165-4ed0-a5c1-7faf152fdd86
URL:https://touren-termine.adfc.de/radveranstaltung/196823-kidicalmass-moa
 bit-vom-kinderspielplatz-piepmatz
END:VEVENT
END:VCALENDAR
