BEGIN:VCALENDAR
PRODID:-//github.com/rianjs/ical.net//NONSGML ical.net 4.0//EN
VERSION:2.0
BEGIN:VEVENT
DESCRIPTION:Wir treffen uns zum lockeren Austausch in der Radmosphäre. Kom
 men dürfen alle\, egal ob Mitglied oder nicht.\nhttps://touren-termine.ad
 fc.de/radveranstaltung/135066-offener-radlertreff-des-adfc-essen
DTEND:20240619T190000Z
DTSTAMP:20260421T101253Z
DTSTART:20240619T170000Z
LOCATION:Essen (Altendorf)\, Niederfeldsee (Radmosphäre)\, 45143 Essen
SEQUENCE:0
SUMMARY:Offener Radlertreff des ADFC Essen
UID:6b25c48b-1e7b-4659-bc79-2c9485ff2f7a
URL:https://touren-termine.adfc.de/radveranstaltung/135066-offener-radlert
 reff-des-adfc-essen
END:VEVENT
END:VCALENDAR
