BEGIN:VCALENDAR
PRODID:-//github.com/rianjs/ical.net//NONSGML ical.net 4.0//EN
VERSION:2.0
BEGIN:VEVENT
DESCRIPTION:Treffen der Verkehrs AG des ADFC Bochum\nhttps://touren-termin
 e.adfc.de/radveranstaltung/152696-ag-verkehr
DTEND:20250206T193000Z
DTSTAMP:20260420T150611Z
DTSTART:20250206T173000Z
LOCATION:Alsenstraße 27\, 44789 Bochum
SEQUENCE:0
SUMMARY:AG Verkehr
UID:5f05d3ec-0a51-4606-9e6d-a4e6c0b7dc90
URL:https://touren-termine.adfc.de/radveranstaltung/152696-ag-verkehr
END:VEVENT
END:VCALENDAR
