BEGIN:VCALENDAR
PRODID:-//github.com/rianjs/ical.net//NONSGML ical.net 4.0//EN
VERSION:2.0
BEGIN:VEVENT
DESCRIPTION:Mit freiwilliger Anmeldung! - Serie: Freitags-Radtour mit Kuli
 narik-Mittagsessen\, Kultur mit kostenfreiem Museumseintritt und abschlie
 ßendem Kaffeetrinken\nhttps://touren-termine.adfc.de/radveranstaltung/161
 916-die-3-k3tour-kulinarik-kultur-kaffee-
DTEND:20250425T150000Z
DTSTAMP:20260424T173223Z
DTSTART:20250425T093000Z
LOCATION:Startpunkt zwischen Rathaus und Post. - Marktplatz 1\, 30853 Lang
 enhagen
SEQUENCE:0
SUMMARY:Die 3. K³-🚲-Tour: Kulinarik\, Kultur\, Kaffee ⓇⓈ
UID:f6bfc4de-4eaf-4737-85de-7a5ba926f833
URL:https://touren-termine.adfc.de/radveranstaltung/161916-die-3-k3tour-ku
 linarik-kultur-kaffee-
END:VEVENT
END:VCALENDAR
