BEGIN:VCALENDAR
PRODID:-//github.com/rianjs/ical.net//NONSGML ical.net 4.0//EN
VERSION:2.0
BEGIN:VEVENT
DESCRIPTION:Durch Codierung können Fahrräder von der Polizei ihrem Besitze
 r zugeordnet und aufgefundene Räder leichter zurückgegeben werden.\nhttps
 ://touren-termine.adfc.de/radveranstaltung/169361-fahrradcodierung-zur-di
 ebstahlspravention
DTEND:20250813T110000Z
DTSTAMP:20260419T171956Z
DTSTART:20250802T083000Z
LOCATION:Uerdinger Straße 67-69\, 47799 Krefeld
SEQUENCE:0
SUMMARY:Fahrrad-Codierung zur Diebstahlsprävention
UID:89e08422-5063-4802-964d-797e9e0abb3d
URL:https://touren-termine.adfc.de/radveranstaltung/169361-fahrradcodierun
 g-zur-diebstahlspravention
END:VEVENT
END:VCALENDAR
