BEGIN:VCALENDAR
PRODID:-//github.com/rianjs/ical.net//NONSGML ical.net 4.0//EN
VERSION:2.0
BEGIN:VEVENT
DESCRIPTION:Wöchentliche freitags Radtouren der ADFC Ortsgruppe Hattingen\
 nhttps://touren-termine.adfc.de/radveranstaltung/190020-auf-ins-wochenend
 e
DTEND:20260605T160000Z
DTSTAMP:20260421T204143Z
DTSTART:20260605T130000Z
LOCATION:Parkplatz Holschentor\, Talstraße 8\, 45525 Hattingen
SEQUENCE:0
SUMMARY:Auf ins Wochenende
UID:d3de73a3-2038-458a-9f4e-f68351c256eb
URL:https://touren-termine.adfc.de/radveranstaltung/190020-auf-ins-wochene
 nde
END:VEVENT
END:VCALENDAR
