BEGIN:VCALENDAR
PRODID:-//github.com/rianjs/ical.net//NONSGML ical.net 4.0//EN
VERSION:2.0
BEGIN:VEVENT
DESCRIPTION:Von Kreuztal geht es in ein ganz kleines Wäldchen mit wunderba
 rem Baumbestand: Spitzebergelchen. Zurück über Oberholzklau und die Hünsb
 orner Höhe. Pedelectour auf kleinen Straßen und Waldwegen.\nhttps://toure
 n-termine.adfc.de/radveranstaltung/170075-pedelecfeierabendtour-spitzeber
 gelchen
DTEND:20250911T180000Z
DTSTAMP:20260422T234436Z
DTSTART:20250911T160000Z
LOCATION:Marburgerstraße\, Roter Platz\, 57223 Kreuztal
SEQUENCE:0
SUMMARY:Pedelec-Feierabendtour Spitzebergelchen
UID:aaf93c7c-e851-48d8-a998-76e626023a08
URL:https://touren-termine.adfc.de/radveranstaltung/170075-pedelecfeierabe
 ndtour-spitzebergelchen
END:VEVENT
END:VCALENDAR
