BEGIN:VCALENDAR
PRODID:-//github.com/rianjs/ical.net//NONSGML ical.net 4.0//EN
VERSION:2.0
BEGIN:VEVENT
DESCRIPTION:offen für interessierte Mitglieder und Gäste\nhttps://touren-t
 ermine.adfc.de/radveranstaltung/147809-offene-vorstandssitzung-des-adfc-e
 ssen
DTEND:20250328T203000Z
DTSTAMP:20260421T142244Z
DTSTART:20250328T173000Z
LOCATION:Essen (Innenstadt)\, ADFC Essen Geschäftsstelle\, Rottstraße 5\, 
 45127 Essen
SEQUENCE:0
SUMMARY:Offene Vorstandssitzung des ADFC Essen
UID:6fd30d38-04eb-4caa-b9fb-568c1b2a1188
URL:https://touren-termine.adfc.de/radveranstaltung/147809-offene-vorstand
 ssitzung-des-adfc-essen
END:VEVENT
END:VCALENDAR
