BEGIN:VCALENDAR
PRODID:-//github.com/rianjs/ical.net//NONSGML ical.net 4.0//EN
VERSION:2.0
BEGIN:VEVENT
DESCRIPTION:NEU in Lengenwang! In  diesem Kurs wird gezeigt\, wie kleinere
  Mängel selbst behoben und größere Reparaturen vermieden werden können.\n
 https://touren-termine.adfc.de/radveranstaltung/114833-reparaturkurs-basi
 clengenwang
DTEND:20240118T193000Z
DTSTAMP:20260419T155719Z
DTSTART:20240118T170000Z
LOCATION:Hauptstraße 1\, Lengenwang\, 87663 Landkreis Ostallgäu
SEQUENCE:0
SUMMARY:Reparaturkurs Basic-Lengenwang
UID:688768f7-b3bc-438d-b080-144185e8eaa5
URL:https://touren-termine.adfc.de/radveranstaltung/114833-reparaturkurs-b
 asiclengenwang
END:VEVENT
END:VCALENDAR
