BEGIN:VCALENDAR
PRODID:-//github.com/rianjs/ical.net//NONSGML ical.net 4.0//EN
VERSION:2.0
BEGIN:VEVENT
DESCRIPTION:Von Wedel im Zickzack in die Au-Wiesen\, Klövensteen und Elbe.
  Tourende in Sülldorf. Anmeldung freiwillig*\nhttps://touren-termine.adfc
 .de/radveranstaltung/186116-zickzack-vor-muttertag
DTEND:20260509T160000Z
DTSTAMP:20260421T101154Z
DTSTART:20260509T100000Z
LOCATION:Bahnhof Wedel\, 22880 Wedel
SEQUENCE:0
SUMMARY:Zickzack vor Muttertag
UID:56f2a2de-2031-4dbd-92f3-7882f167f22b
URL:https://touren-termine.adfc.de/radveranstaltung/186116-zickzack-vor-mu
 ttertag
END:VEVENT
END:VCALENDAR
