BEGIN:VCALENDAR
PRODID:-//github.com/rianjs/ical.net//NONSGML ical.net 4.0//EN
VERSION:2.0
BEGIN:VEVENT
DESCRIPTION:Die Bezirksgruppe Altona setzt sich für den Radverkehr in alle
 n Straßen und Stadtteilen von Rissen bis Sternschanze ein.\nhttps://toure
 n-termine.adfc.de/radveranstaltung/102940-bezirksgruppe-altona
DTEND:20230621T190000Z
DTSTAMP:20260420T232051Z
DTSTART:20230621T170000Z
LOCATION:Flavour Court im Othmarscher Tennis-Club\, 22763 Hamburg\, Othmar
 schen
SEQUENCE:0
SUMMARY:Bezirksgruppe Altona
UID:4a4b3bba-b74a-4330-845b-aa8574861141
URL:https://touren-termine.adfc.de/radveranstaltung/102940-bezirksgruppe-a
 ltona
END:VEVENT
END:VCALENDAR
