BEGIN:VCALENDAR
PRODID:-//github.com/rianjs/ical.net//NONSGML ical.net 4.0//EN
VERSION:2.0
BEGIN:VEVENT
DESCRIPTION:Feierabendtouren in die nähere Umgebung\, Distanz 20 - 30 km\,
  oft mit Einkehr.\nhttps://touren-termine.adfc.de/radveranstaltung/152353
 -gilchinger-feierabendtour
DTEND:20250411T180000Z
DTSTAMP:20260425T150216Z
DTSTART:20250411T150000Z
LOCATION:Marktplatz\, 82205 Gilching
SEQUENCE:0
SUMMARY:Gilchinger Feierabendtour
UID:1a09e24d-2c95-4cbb-9f3d-a3abd4bc5575
URL:https://touren-termine.adfc.de/radveranstaltung/152353-gilchinger-feie
 rabendtour
END:VEVENT
END:VCALENDAR
