BEGIN:VCALENDAR
PRODID:-//github.com/rianjs/ical.net//NONSGML ical.net 4.0//EN
VERSION:2.0
BEGIN:VEVENT
DESCRIPTION:Der Vorstand berichtet über die Aktivitäten 2024\, die Kassenl
 age und die Pläne für 2025. Als Gast erläutert Wibke Schlößer vom Stadtpl
 anungsamt die aktuellen Pläne für die Fahrradhauptrouten in Hamm.\nhttps:
 //touren-termine.adfc.de/radveranstaltung/194121-mitgliederversammlung
DTEND:20260414T190000Z
DTSTAMP:20260421T234608Z
DTSTART:20260414T170000Z
LOCATION:Oststraße 12\, 59065 Hamm
SEQUENCE:0
SUMMARY:Mitgliederversammlung
UID:2131e5bc-2212-4c4a-9be6-bd76eab275ad
URL:https://touren-termine.adfc.de/radveranstaltung/194121-mitgliederversa
 mmlung
END:VEVENT
END:VCALENDAR
