BEGIN:VCALENDAR
PRODID:-//github.com/rianjs/ical.net//NONSGML ical.net 4.0//EN
VERSION:2.0
BEGIN:VEVENT
DESCRIPTION:Rauf aufs Rad für eine Spritztour in die Umgebung von Gauting!
 \nWöchentlich wechselnd naturkundliche Touren und Cappuccino-Touren.\nhtt
 ps://touren-termine.adfc.de/radveranstaltung/188767-wochentliche-nachmitt
 agstour-in-gauting
DTEND:20261013T150000Z
DTSTAMP:20260425T150906Z
DTSTART:20261013T120000Z
LOCATION:Rathaus\, Bahnhofstraße 7\, 82131 Gauting
SEQUENCE:0
SUMMARY:Wöchentliche Nachmittagstour in Gauting
UID:d7b85c0a-2ffb-48fb-b12c-4ff3be3e8951
URL:https://touren-termine.adfc.de/radveranstaltung/188767-wochentliche-na
 chmittagstour-in-gauting
END:VEVENT
END:VCALENDAR
