BEGIN:VCALENDAR
PRODID:-//github.com/rianjs/ical.net//NONSGML ical.net 4.0//EN
VERSION:2.0
BEGIN:VEVENT
DESCRIPTION:Wir radeln eine gemütliche Runde zu verschiedenen Zielen in de
 r Stadt und genießen dabei Hamburg-Flair\, Natur und Adfc-Geselligkeit. \
 nNicht bei Regenwetter.\nhttps://touren-termine.adfc.de/radveranstaltung/
 129433-wandsbeker-feierabendcruise
DTEND:20240725T183000Z
DTSTAMP:20260420T230626Z
DTSTART:20240725T163000Z
LOCATION:Liegewiese im Eichtalpark mit ovaler Skulptur\, 22041 Hamburg\, W
 andsbek
SEQUENCE:0
SUMMARY:Wandsbeker Feierabendcruise
UID:a27991d7-43fd-4c1a-8f23-87ac82b12505
URL:https://touren-termine.adfc.de/radveranstaltung/129433-wandsbeker-feie
 rabendcruise
END:VEVENT
END:VCALENDAR
