BEGIN:VCALENDAR
PRODID:-//github.com/rianjs/ical.net//NONSGML ical.net 4.0//EN
VERSION:2.0
BEGIN:VEVENT
DESCRIPTION:Bericht über eine Radtour um das Land Hessen\nhttps://touren-t
 ermine.adfc.de/radveranstaltung/140101-bilderabend
DTEND:20241025T200000Z
DTSTAMP:20260424T143409Z
DTSTART:20241025T180000Z
LOCATION:Rotebühlstraße 86/1\, 70178 Stuttgart
SEQUENCE:0
SUMMARY:Bilderabend
UID:2d3d9cfb-49cb-4310-bc20-63e3f53fe0da
URL:https://touren-termine.adfc.de/radveranstaltung/140101-bilderabend
END:VEVENT
END:VCALENDAR
