BEGIN:VCALENDAR
PRODID:-//github.com/rianjs/ical.net//NONSGML ical.net 4.0//EN
VERSION:2.0
BEGIN:VEVENT
DESCRIPTION:An den Bahnhöfen der Nordbahntrasse können weitere Interessent
 en dazu stoßen\; in familientauglichem Tempo geht es über den Radweg an d
 er Wupper zum Müngstener Brückenpark.\nhttps://touren-termine.adfc.de/rad
 veranstaltung/197375-schulen-kruppstr-stadtradeln-mungstener-brucke
DTEND:20260509T130000Z
DTSTAMP:20260421T101857Z
DTSTART:20260509T090000Z
LOCATION:NBT-Zugang Bahnhof Mirke\, 42105 Wuppertal
SEQUENCE:0
SUMMARY:Schulen Kruppstr. Stadtradeln Müngstener Brücke
UID:ce29a183-d1a1-42ae-aebf-215ff2e04e81
URL:https://touren-termine.adfc.de/radveranstaltung/197375-schulen-kruppst
 r-stadtradeln-mungstener-brucke
END:VEVENT
END:VCALENDAR
