BEGIN:VCALENDAR
PRODID:-//github.com/rianjs/ical.net//NONSGML ical.net 4.0//EN
VERSION:2.0
BEGIN:VEVENT
DESCRIPTION:ca. 40 km\, Start: Parkplatz Stadtwaldweiher Rheydt\, 10.09.20
 23\, 10:00 Uhr.\nhttps://touren-termine.adfc.de/radveranstaltung/104095-r
 heydt-tuschenbroich-rheydt
DTEND:20230910T130000Z
DTSTAMP:20260420T232454Z
DTSTART:20230910T080000Z
LOCATION:An der Rheydter Höhe 48\, 41239 Mönchengladbach
SEQUENCE:0
SUMMARY:Rheydt - Tüschenbroich - Rheydt
UID:f96a7003-a38e-4269-ab79-c0b7bbdc12fe
URL:https://touren-termine.adfc.de/radveranstaltung/104095-rheydt-tuschenb
 roich-rheydt
END:VEVENT
END:VCALENDAR
