BEGIN:VCALENDAR
PRODID:-//github.com/rianjs/ical.net//NONSGML ical.net 4.0//EN
VERSION:2.0
BEGIN:VEVENT
DESCRIPTION:Radtour an den Außengrenzen des Landes Hessen\nAnmeldeschluss 
 bis 26. Januar 2024\nhttps://touren-termine.adfc.de/radveranstaltung/1092
 16-mit-dem-fahrrad-um-das-land-hessen
DTEND:20240515T170000Z
DTSTAMP:20260424T144104Z
DTSTART:20240504T070000Z
LOCATION:Hauptbahnhof\, 70173 Stuttgart
SEQUENCE:0
SUMMARY:Mit dem Fahrrad um das Land Hessen
UID:bb4aad5b-c5db-4fda-bea0-bd774517b42d
URL:https://touren-termine.adfc.de/radveranstaltung/109216-mit-dem-fahrrad
 -um-das-land-hessen
END:VEVENT
END:VCALENDAR
